BEGIN:VCALENDAR
VERSION:2.0
PRODID:-//ACT | Abuse Counseling and Treatment, Inc. - ECPv6.15.20//NONSGML v1.0//EN
CALSCALE:GREGORIAN
METHOD:PUBLISH
X-ORIGINAL-URL:https://actabuse.com
X-WR-CALDESC:Events for ACT | Abuse Counseling and Treatment, Inc.
REFRESH-INTERVAL;VALUE=DURATION:PT1H
X-Robots-Tag:noindex
X-PUBLISHED-TTL:PT1H
BEGIN:VTIMEZONE
TZID:America/New_York
BEGIN:DAYLIGHT
TZOFFSETFROM:-0500
TZOFFSETTO:-0400
TZNAME:EDT
DTSTART:20190310T070000
END:DAYLIGHT
BEGIN:STANDARD
TZOFFSETFROM:-0400
TZOFFSETTO:-0500
TZNAME:EST
DTSTART:20191103T060000
END:STANDARD
BEGIN:DAYLIGHT
TZOFFSETFROM:-0500
TZOFFSETTO:-0400
TZNAME:EDT
DTSTART:20200308T070000
END:DAYLIGHT
BEGIN:STANDARD
TZOFFSETFROM:-0400
TZOFFSETTO:-0500
TZNAME:EST
DTSTART:20201101T060000
END:STANDARD
BEGIN:DAYLIGHT
TZOFFSETFROM:-0500
TZOFFSETTO:-0400
TZNAME:EDT
DTSTART:20210314T070000
END:DAYLIGHT
BEGIN:STANDARD
TZOFFSETFROM:-0400
TZOFFSETTO:-0500
TZNAME:EST
DTSTART:20211107T060000
END:STANDARD
END:VTIMEZONE
BEGIN:VEVENT
DTSTART;TZID=America/New_York:20201001T080000
DTEND;TZID=America/New_York:20201031T170000
DTSTAMP:20260425T235737
CREATED:20200909T192441Z
LAST-MODIFIED:20200909T222848Z
UID:3914-1601539200-1604163600@actabuse.com
SUMMARY:ACT Break the Cycle Challenge!
DESCRIPTION:ACT’s Break the Cycle Challenge\nOctober is Domestic Violence Awareness Month and ACT needs your help to raise awareness on abusive relationships! Throughout October 1 to 31\, 2020\, we invite you to participate in a cycling challenge to spread the word by promoting healthy relationships and safe homes in SWFL. \nRide your bike while wearing purple\, share some fast facts about intimate partner violence\, and connect others to ACT’s services. Anyone can purchase a “Break the Cycle” special edition T-shirt available at our online store. Click here! A portion of the proceeds from t-shirts will benefit ACT’s nonprofit services for local survivors. \nTo learn more about how to participate and to register click here. \nContact Alex Kelner\, Community Relations and Development Officer\, for any questions at (239) 939-2553 or akelner@actabuse.com. \n 
URL:https://actabuse.com/event/act-break-the-cycle-challenge/
END:VEVENT
END:VCALENDAR