BEGIN:VCALENDAR
VERSION:2.0
PRODID:-//ACT | Abuse Counseling and Treatment, Inc. - ECPv6.15.20//NONSGML v1.0//EN
CALSCALE:GREGORIAN
METHOD:PUBLISH
X-WR-CALNAME:ACT | Abuse Counseling and Treatment, Inc.
X-ORIGINAL-URL:https://actabuse.com
X-WR-CALDESC:Events for ACT | Abuse Counseling and Treatment, Inc.
REFRESH-INTERVAL;VALUE=DURATION:PT1H
X-Robots-Tag:noindex
X-PUBLISHED-TTL:PT1H
BEGIN:VTIMEZONE
TZID:America/New_York
BEGIN:DAYLIGHT
TZOFFSETFROM:-0500
TZOFFSETTO:-0400
TZNAME:EDT
DTSTART:20210314T070000
END:DAYLIGHT
BEGIN:STANDARD
TZOFFSETFROM:-0400
TZOFFSETTO:-0500
TZNAME:EST
DTSTART:20211107T060000
END:STANDARD
BEGIN:DAYLIGHT
TZOFFSETFROM:-0500
TZOFFSETTO:-0400
TZNAME:EDT
DTSTART:20220313T070000
END:DAYLIGHT
BEGIN:STANDARD
TZOFFSETFROM:-0400
TZOFFSETTO:-0500
TZNAME:EST
DTSTART:20221106T060000
END:STANDARD
BEGIN:DAYLIGHT
TZOFFSETFROM:-0500
TZOFFSETTO:-0400
TZNAME:EDT
DTSTART:20230312T070000
END:DAYLIGHT
BEGIN:STANDARD
TZOFFSETFROM:-0400
TZOFFSETTO:-0500
TZNAME:EST
DTSTART:20231105T060000
END:STANDARD
END:VTIMEZONE
BEGIN:VEVENT
DTSTART;TZID=America/New_York:20220403T120000
DTEND;TZID=America/New_York:20220403T150000
DTSTAMP:20260422T180209
CREATED:20220401T223247Z
LAST-MODIFIED:20220401T225218Z
UID:4231-1648987200-1648998000@actabuse.com
SUMMARY:Charity Brunch Bingo
DESCRIPTION:Charity Brunch Bingo\nSunday\, April 3rd from 12 to 3 PM\nJoin ACT for lots of laughs and fun at Charity Brunch Bingo at Botanical Brewing Taproom in Cape Coral. Each game is $2\, half of the winnings will go to the winner and half to ACT’s mission! We’ll have a 50/50 cash raffle prize too. Support local survivors while enjoying a nice brunch and fun led by A Haus of Drag. See attached flyer. \n@ Hosted by A Haus of Drag at Botanical Brewing Taproom \nBotanical Brewing Taproom\, 839 Miramar St.\, Cape Coral\, FL 33904
URL:https://actabuse.com/event/4231/
ATTACH;FMTTYPE=image/jpeg:https://actabuse.com/wp-content/uploads/2022/04/4.03.21-Haus-of-Drag-Charity-Bingo-e1648853421120.jpg
END:VEVENT
END:VCALENDAR