BEGIN:VCALENDAR
VERSION:2.0
PRODID:-//ACT | Abuse Counseling and Treatment, Inc. - ECPv6.15.20//NONSGML v1.0//EN
CALSCALE:GREGORIAN
METHOD:PUBLISH
X-WR-CALNAME:ACT | Abuse Counseling and Treatment, Inc.
X-ORIGINAL-URL:https://actabuse.com
X-WR-CALDESC:Events for ACT | Abuse Counseling and Treatment, Inc.
REFRESH-INTERVAL;VALUE=DURATION:PT1H
X-Robots-Tag:noindex
X-PUBLISHED-TTL:PT1H
BEGIN:VTIMEZONE
TZID:America/New_York
BEGIN:DAYLIGHT
TZOFFSETFROM:-0500
TZOFFSETTO:-0400
TZNAME:EDT
DTSTART:20210314T070000
END:DAYLIGHT
BEGIN:STANDARD
TZOFFSETFROM:-0400
TZOFFSETTO:-0500
TZNAME:EST
DTSTART:20211107T060000
END:STANDARD
BEGIN:DAYLIGHT
TZOFFSETFROM:-0500
TZOFFSETTO:-0400
TZNAME:EDT
DTSTART:20220313T070000
END:DAYLIGHT
BEGIN:STANDARD
TZOFFSETFROM:-0400
TZOFFSETTO:-0500
TZNAME:EST
DTSTART:20221106T060000
END:STANDARD
BEGIN:DAYLIGHT
TZOFFSETFROM:-0500
TZOFFSETTO:-0400
TZNAME:EDT
DTSTART:20230312T070000
END:DAYLIGHT
BEGIN:STANDARD
TZOFFSETFROM:-0400
TZOFFSETTO:-0500
TZNAME:EST
DTSTART:20231105T060000
END:STANDARD
BEGIN:DAYLIGHT
TZOFFSETFROM:-0500
TZOFFSETTO:-0400
TZNAME:EDT
DTSTART:20240310T070000
END:DAYLIGHT
BEGIN:STANDARD
TZOFFSETFROM:-0400
TZOFFSETTO:-0500
TZNAME:EST
DTSTART:20241103T060000
END:STANDARD
BEGIN:DAYLIGHT
TZOFFSETFROM:-0500
TZOFFSETTO:-0400
TZNAME:EDT
DTSTART:20250309T070000
END:DAYLIGHT
BEGIN:STANDARD
TZOFFSETFROM:-0400
TZOFFSETTO:-0500
TZNAME:EST
DTSTART:20251102T060000
END:STANDARD
BEGIN:DAYLIGHT
TZOFFSETFROM:-0500
TZOFFSETTO:-0400
TZNAME:EDT
DTSTART:20260308T070000
END:DAYLIGHT
BEGIN:STANDARD
TZOFFSETFROM:-0400
TZOFFSETTO:-0500
TZNAME:EST
DTSTART:20261101T060000
END:STANDARD
BEGIN:DAYLIGHT
TZOFFSETFROM:-0500
TZOFFSETTO:-0400
TZNAME:EDT
DTSTART:20270314T070000
END:DAYLIGHT
BEGIN:STANDARD
TZOFFSETFROM:-0400
TZOFFSETTO:-0500
TZNAME:EST
DTSTART:20271107T060000
END:STANDARD
END:VTIMEZONE
BEGIN:VEVENT
DTSTART;TZID=America/New_York:20220403T120000
DTEND;TZID=America/New_York:20220403T150000
DTSTAMP:20260422T175516
CREATED:20220401T223247Z
LAST-MODIFIED:20220401T225218Z
UID:4231-1648987200-1648998000@actabuse.com
SUMMARY:Charity Brunch Bingo
DESCRIPTION:Charity Brunch Bingo\nSunday\, April 3rd from 12 to 3 PM\nJoin ACT for lots of laughs and fun at Charity Brunch Bingo at Botanical Brewing Taproom in Cape Coral. Each game is $2\, half of the winnings will go to the winner and half to ACT’s mission! We’ll have a 50/50 cash raffle prize too. Support local survivors while enjoying a nice brunch and fun led by A Haus of Drag. See attached flyer. \n@ Hosted by A Haus of Drag at Botanical Brewing Taproom \nBotanical Brewing Taproom\, 839 Miramar St.\, Cape Coral\, FL 33904
URL:https://actabuse.com/event/4231/
ATTACH;FMTTYPE=image/jpeg:https://actabuse.com/wp-content/uploads/2022/04/4.03.21-Haus-of-Drag-Charity-Bingo-e1648853421120.jpg
END:VEVENT
BEGIN:VEVENT
DTSTART;TZID=America/New_York:20220404T133000
DTEND;TZID=America/New_York:20220404T183000
DTSTAMP:20260422T175516
CREATED:20220401T225705Z
LAST-MODIFIED:20220401T232226Z
UID:4239-1649079000-1649097000@actabuse.com
SUMMARY:Painting & Letter Writing at Library
DESCRIPTION:SAAM Library Events\n4/04\nPainting & Letter Writing at Library\nWe invite you to celebrate Sexual Assault Awareness Month this April by joining us at the Barron Library anytime from 1:30 to 6:30 PM at 461 N Main St.\, LaBelle\, FL 33935. See attached flyer SAAM Library Events
URL:https://actabuse.com/event/painting-letter-writing-at-library/
END:VEVENT
BEGIN:VEVENT
DTSTART;TZID=America/New_York:20220406T180000
DTEND;TZID=America/New_York:20220406T200000
DTSTAMP:20260422T175516
CREATED:20220404T205402Z
LAST-MODIFIED:20220404T211942Z
UID:4278-1649268000-1649275200@actabuse.com
SUMMARY:Community Event Hendry/Glades Residents
DESCRIPTION:JoClewiston Community Event\nWednesday\, April 6th at 6:00 – 8:00 PM\nJoin ACT and Clewiston Police Department for a free community event with our Hendry & Glades residents! To honor Sexual Assault Awareness Month and support local survivors\, we’ll be at John Boy Auditorium from 6:00 – 8:00 PM. Local community agencies and partners will be sharing information on their services and refreshments will be offered! \n@ John Boy Auditorium\n1200 W. C. Owen Ave.\, Clewiston\, FL 33440 \nClick here to read all about it!
URL:https://actabuse.com/event/community-event-hendry-glades-residents/
LOCATION:John Boy Auditorium\, 1200 W. C. Owen Avenue\, Clewiston\, 33440\, United States
END:VEVENT
BEGIN:VEVENT
DTSTART;TZID=America/New_York:20220419T133000
DTEND;TZID=America/New_York:20220419T183000
DTSTAMP:20260422T175516
CREATED:20220401T231119Z
LAST-MODIFIED:20220401T232542Z
UID:4247-1650375000-1650393000@actabuse.com
SUMMARY:Painting & Letter Writing at Library
DESCRIPTION:SAAM Library Events\n4/19\nPainting & Letter Writing at Library\nWe invite you to celebrate Sexual Assault Awareness Month this April by joining us at the Glades County Public Library anytime from 1:30 to 6:30 PM at 201 Riverside Dr.\, Moore Haven\, FL 33471. See attached flyer.
URL:https://actabuse.com/event/paint-letter-writing-at-library/
END:VEVENT
BEGIN:VEVENT
DTSTART;TZID=America/New_York:20220420T133000
DTEND;TZID=America/New_York:20220420T170000
DTSTAMP:20260422T175516
CREATED:20220401T231637Z
LAST-MODIFIED:20220401T232034Z
UID:4251-1650461400-1650474000@actabuse.com
SUMMARY:Painting & Letter Writing at Library
DESCRIPTION:SAAM Library Events\n4/20\nPainting & Letter Writing at Library\nWe invite you to celebrate Sexual Assault Awareness Month this April by joining us at the Clewiston Library anytime from 1:30 to 5:00 PM at 120 W Osceola Ave\, Clewiston\, FL 33440. See attached flyer.
URL:https://actabuse.com/event/painting-letter-writing-at-library-2/
END:VEVENT
BEGIN:VEVENT
DTSTART;TZID=America/New_York:20220421T190000
DTEND;TZID=America/New_York:20220421T200000
DTSTAMP:20260422T175516
CREATED:20220404T204645Z
LAST-MODIFIED:20220404T204813Z
UID:4275-1650567600-1650571200@actabuse.com
SUMMARY:Creating Safer Online Spaces
DESCRIPTION:Creating Safer Online Spaces\nThursday\, April 21st at 7:00 to 8:00 PM\nJoin ACT’s Community Educator\, Madison Kilgore\, for a virtual workshop on digital consent and how we can build safer online communities together! Email mkilgore@actabuse.com to RSVP and get the link invitation.
URL:https://actabuse.com/event/creating-safer-online-spaces/
END:VEVENT
BEGIN:VEVENT
DTSTART;TZID=America/New_York:20220425T093000
DTEND;TZID=America/New_York:20220425T160000
DTSTAMP:20260422T175516
CREATED:20220404T211455Z
LAST-MODIFIED:20220404T212405Z
UID:4287-1650879000-1650902400@actabuse.com
SUMMARY:Teal Hair Day
DESCRIPTION:Teal Hair Day!\nMonday\, April 25th anytime between 9:30 am to 4:00 pm\nACT has partnered with Glamour Up Beauty Salon to show our support for sexual assault survivors with teal hair! You can get one free teal highlight for Sexual Assault Awareness Month. See attached flyer. \n@ Glamour Up Beauty Salon\n661 South Bridge St. La Belle\, FL 33935
URL:https://actabuse.com/event/teal-hair-day/
LOCATION:Glamour Up Beauty Salon\, 661 South Bridge St.\, LaBelle\, 33935\, United States
END:VEVENT
BEGIN:VEVENT
DTSTART;TZID=America/New_York:20260130T180000
DTEND;TZID=America/New_York:20260130T213000
DTSTAMP:20260422T175516
CREATED:20231006T212156Z
LAST-MODIFIED:20260130T173052Z
UID:4488-1769796000-1769808600@actabuse.com
SUMMARY:Power of the Purse - Designer Purse Bingo
DESCRIPTION:Join us for an evening of fun and excitement at the Power of the Purse – Designer Purse Bingo event! Get ready to play bingo and win fabulous designer purses while supporting a great cause. This in-person event will take place on Friday\, January 30\, 2026 at  Marian Hall –5632 Sunrise Drive\, Fort Myers\, FL 33919. \nNot only will you have a blast playing bingo\, but you’ll also be supporting a worthy cause. The proceeds from this event will go towards our many programs benefiting victims of domestic violence and their children and survivors of sexual assault and human trafficking to achieve their goals. By attending this event\, you’ll be making a difference in the lives of those we serve in our community at ACT. \nDon’t miss out on this exciting event! Mark your calendars for Friday\, January 30\, 2025  and join us at 5632 Sunrise Drive\, Fort Myers\, FL 33919. Get ready to have a fantastic time\, win amazing designer purses like Marc Jacobs\, Tory Burch\, Brahmin\, Coach\, Michael Kors\, Kate Spade\, etc. and support a cause that matters. See you there! \nFor more information contact Jennifer Benton at 239-939-2553 or email jbenton@actabuse.com.  If you are interested in becoming a sponsor\, call or email me.  You can\, also\, pay for tickets and sponsorships at the link below.  To see what sponsorship opportunities we offer click Sponsor Packet. \n  \nTickets can be purchased tonight at the door.
URL:https://actabuse.com/event/power-of-the-purse-designer-purse-bingo/
LOCATION:Marian Hall\, 5632 Sunrise Drive\, Fort Myers\, 33919\, United States
CATEGORIES:Fundraising,Giving,Power of the Purse,Power of The Purse - Designer Purse Bingo
ATTACH;FMTTYPE=image/png:https://actabuse.com/wp-content/uploads/2023/10/Save-the-Date.png
ORGANIZER;CN="Abuse Counseling and Treatment%2C Inc.":MAILTO:jbenton@actabuse.com
END:VEVENT
BEGIN:VEVENT
DTSTART;TZID=America/New_York:20261003T170000
DTEND;TZID=America/New_York:20261003T220000
DTSTAMP:20260422T175516
CREATED:20170330T150022Z
LAST-MODIFIED:20260414T151645Z
UID:2186-1791046800-1791064800@actabuse.com
SUMMARY:Arts for ACT Gala and Auction 2026
DESCRIPTION:We are excited to announce Arts for ACT 2026 “Peace Love & Denim” Gala and Auction. We invite you to consider becoming a sponsor of Arts for ACT\, supporting Abuse Counseling and Treatment\, Inc.\, a non-profit organization devoted to serving victims of domestic violence\, sexual assault\, and human trafficking for over four decades. \n\nJoin us on Saturday\, October 3\, 2026 at the Burroughs Home and Gardens. The evening kicks off at 5:00 p.m. with cocktails\, a silent auction\, raffle\, and other fun activities. Dinner commences at 6:00 p.m.\, followed by a dynamic live auction at 7:00 p.m. led by Auctioneer Scott Robertson. The festivities continue with dancing into the night. \nFor further details\, please don’t hesitate to reach out to us. We look forward to hearing from you! \nAll proceeds to benefit Abuse Counseling and Treatment\, Inc. a non-profit agency serving victims of domestic violence and their children and survivors of sexual assault and human trafficking in Lee\, Hendry and Glades Counties. \nIf you are interested  sponsoring the fundraising event or donating to the auction\, you can email jbenton@actabuse.com or call me at 239-939-2553.  Here is additional information below: \nSponsorship Form 2026 (002)
URL:https://actabuse.com/event/arts-for-act-gala-and-auction-2025/
LOCATION:Burroughs Home and Gardens
CATEGORIES:Fundraising,Giving
END:VEVENT
END:VCALENDAR